BEGIN:VCALENDAR
VERSION:2.0
PRODID:-//Friends of Webster Trails - ECPv6.15.20//NONSGML v1.0//EN
CALSCALE:GREGORIAN
METHOD:PUBLISH
X-WR-CALNAME:Friends of Webster Trails
X-ORIGINAL-URL:https://webstertrails.org
X-WR-CALDESC:Events for Friends of Webster Trails
REFRESH-INTERVAL;VALUE=DURATION:PT1H
X-Robots-Tag:noindex
X-PUBLISHED-TTL:PT1H
BEGIN:VTIMEZONE
TZID:America/New_York
BEGIN:DAYLIGHT
TZOFFSETFROM:-0500
TZOFFSETTO:-0400
TZNAME:EDT
DTSTART:20230312T070000
END:DAYLIGHT
BEGIN:STANDARD
TZOFFSETFROM:-0400
TZOFFSETTO:-0500
TZNAME:EST
DTSTART:20231105T060000
END:STANDARD
BEGIN:DAYLIGHT
TZOFFSETFROM:-0500
TZOFFSETTO:-0400
TZNAME:EDT
DTSTART:20240310T070000
END:DAYLIGHT
BEGIN:STANDARD
TZOFFSETFROM:-0400
TZOFFSETTO:-0500
TZNAME:EST
DTSTART:20241103T060000
END:STANDARD
BEGIN:DAYLIGHT
TZOFFSETFROM:-0500
TZOFFSETTO:-0400
TZNAME:EDT
DTSTART:20250309T070000
END:DAYLIGHT
BEGIN:STANDARD
TZOFFSETFROM:-0400
TZOFFSETTO:-0500
TZNAME:EST
DTSTART:20251102T060000
END:STANDARD
END:VTIMEZONE
BEGIN:VEVENT
DTSTART;TZID=America/New_York:20240810T090000
DTEND;TZID=America/New_York:20240810T110000
DTSTAMP:20260423T050621
CREATED:20240710T165126Z
LAST-MODIFIED:20240710T165127Z
UID:5034-1723280400-1723287600@webstertrails.org
SUMMARY:Updated Passport Kickoff
DESCRIPTION:Stop by the FWT Friends Table at Whiting Road Nature Preserve to get your updated Wegmans Passport\, then tag your first trails with a short on-your-own hike.  \n\n\n\nNo registration required.
URL:https://webstertrails.org/event/updated-passport-kickoff/
LOCATION:Whiting Road Nature Preserve\, 403 Whiting Rd\, Webster\, New York\, 14580\, United States
CATEGORIES:Activities
ATTACH;FMTTYPE=image/jpeg:https://webstertrails.org/wp-content/uploads/2024/07/PassportCover.jpg
END:VEVENT
END:VCALENDAR