BEGIN:VCALENDAR
VERSION:2.0
PRODID:-//Friends of Webster Trails - ECPv6.15.15//NONSGML v1.0//EN
CALSCALE:GREGORIAN
METHOD:PUBLISH
X-ORIGINAL-URL:https://webstertrails.org
X-WR-CALDESC:Events for Friends of Webster Trails
REFRESH-INTERVAL;VALUE=DURATION:PT1H
X-Robots-Tag:noindex
X-PUBLISHED-TTL:PT1H
BEGIN:VTIMEZONE
TZID:America/New_York
BEGIN:DAYLIGHT
TZOFFSETFROM:-0500
TZOFFSETTO:-0400
TZNAME:EDT
DTSTART:20240310T070000
END:DAYLIGHT
BEGIN:STANDARD
TZOFFSETFROM:-0400
TZOFFSETTO:-0500
TZNAME:EST
DTSTART:20241103T060000
END:STANDARD
BEGIN:DAYLIGHT
TZOFFSETFROM:-0500
TZOFFSETTO:-0400
TZNAME:EDT
DTSTART:20250309T070000
END:DAYLIGHT
BEGIN:STANDARD
TZOFFSETFROM:-0400
TZOFFSETTO:-0500
TZNAME:EST
DTSTART:20251102T060000
END:STANDARD
BEGIN:DAYLIGHT
TZOFFSETFROM:-0500
TZOFFSETTO:-0400
TZNAME:EDT
DTSTART:20260308T070000
END:DAYLIGHT
BEGIN:STANDARD
TZOFFSETFROM:-0400
TZOFFSETTO:-0500
TZNAME:EST
DTSTART:20261101T060000
END:STANDARD
END:VTIMEZONE
BEGIN:VEVENT
DTSTART;TZID=America/New_York:20250510T100000
DTEND;TZID=America/New_York:20250510T120000
DTSTAMP:20260422T182034
CREATED:20250416T150228Z
LAST-MODIFIED:20250416T150326Z
UID:5875-1746871200-1746878400@webstertrails.org
SUMMARY:Volunteer Fair
DESCRIPTION:Visit FWT at the Webster Volunteer Fair at the Library and check out other organizations that help the community. Learn how you can give back to make Webster an even better place. \n\n\n\nRegistration is encouraged\, but not required.
URL:https://webstertrails.org/event/volunteer-fair/
LOCATION:Webster Public Library\, 980 Ridge Road\, Webster\, NY\, 14580\, United States
CATEGORIES:Activities
ATTACH;FMTTYPE=image/png:https://webstertrails.org/wp-content/uploads/2025/04/Library-VolFair.png
END:VEVENT
END:VCALENDAR