BEGIN:VCALENDAR
VERSION:2.0
PRODID:-//Friends of Webster Trails - ECPv6.15.15//NONSGML v1.0//EN
CALSCALE:GREGORIAN
METHOD:PUBLISH
X-ORIGINAL-URL:https://webstertrails.org
X-WR-CALDESC:Events for Friends of Webster Trails
REFRESH-INTERVAL;VALUE=DURATION:PT1H
X-Robots-Tag:noindex
X-PUBLISHED-TTL:PT1H
BEGIN:VTIMEZONE
TZID:America/New_York
BEGIN:DAYLIGHT
TZOFFSETFROM:-0500
TZOFFSETTO:-0400
TZNAME:EDT
DTSTART:20220313T070000
END:DAYLIGHT
BEGIN:STANDARD
TZOFFSETFROM:-0400
TZOFFSETTO:-0500
TZNAME:EST
DTSTART:20221106T060000
END:STANDARD
BEGIN:DAYLIGHT
TZOFFSETFROM:-0500
TZOFFSETTO:-0400
TZNAME:EDT
DTSTART:20230312T070000
END:DAYLIGHT
BEGIN:STANDARD
TZOFFSETFROM:-0400
TZOFFSETTO:-0500
TZNAME:EST
DTSTART:20231105T060000
END:STANDARD
BEGIN:DAYLIGHT
TZOFFSETFROM:-0500
TZOFFSETTO:-0400
TZNAME:EDT
DTSTART:20240310T070000
END:DAYLIGHT
BEGIN:STANDARD
TZOFFSETFROM:-0400
TZOFFSETTO:-0500
TZNAME:EST
DTSTART:20241103T060000
END:STANDARD
BEGIN:DAYLIGHT
TZOFFSETFROM:-0500
TZOFFSETTO:-0400
TZNAME:EDT
DTSTART:20250309T070000
END:DAYLIGHT
BEGIN:STANDARD
TZOFFSETFROM:-0400
TZOFFSETTO:-0500
TZNAME:EST
DTSTART:20251102T060000
END:STANDARD
END:VTIMEZONE
BEGIN:VEVENT
DTSTART;TZID=America/New_York:20241102T103000
DTEND;TZID=America/New_York:20241102T123000
DTSTAMP:20260421T234011
CREATED:20240428T205555Z
LAST-MODIFIED:20240930T204821Z
UID:4682-1730543400-1730550600@webstertrails.org
SUMMARY:2024 Scavenger Hunt
DESCRIPTION:Our Family Scavenger Hunts have become favorite events\, and you won’t want to miss our fall edition at Whiting Road Nature Preserve. A variety of clues geared to ages 2 and up make this a perfect event for the whole family. \n\n\n\nRegistration is required through Webster Parks and Recreation.
URL:https://webstertrails.org/event/2024-scavenger-hunt-2/
LOCATION:NY
CATEGORIES:Activities,Hikes and Events
ATTACH;FMTTYPE=image/jpeg:https://webstertrails.org/wp-content/uploads/2024/03/sv.jpg
END:VEVENT
BEGIN:VEVENT
DTSTART;TZID=America/New_York:20241005T130000
DTEND;TZID=America/New_York:20241005T150000
DTSTAMP:20260421T234011
CREATED:20240909T171005Z
LAST-MODIFIED:20241001T124821Z
UID:5275-1728133200-1728140400@webstertrails.org
SUMMARY:Cars Along the Creek
DESCRIPTION:You’ve seen the cars. Now learn more about them with an expert on vintage cars\, and explore the habitat of Four Mile Creek Preserve on this guided hike with FMCP steward Dennis Kuhn. This event is full of anecdotes and fun facts for the whole family. \n\n\n\nHikers will also have stops at the overlook to identify the “Blue Ribbon” trees of the preserve. There will be prizes! And snacks will be provided. \n\n\n\nBe sure to register for this popular hike!
URL:https://webstertrails.org/event/cars-along-the-creek-2/
LOCATION:Four Mile Creek Preserve\, 160 Phillips Rd \, Webster\, NY\, 14580\, United States
CATEGORIES:Activities,Hikes and Events
ATTACH;FMTTYPE=image/jpeg:https://webstertrails.org/wp-content/uploads/2024/09/FMC_AmbassadorCar.jpg
END:VEVENT
BEGIN:VEVENT
DTSTART;TZID=America/New_York:20240914T090000
DTEND;TZID=America/New_York:20240914T110000
DTSTAMP:20260421T234011
CREATED:20240428T204946Z
LAST-MODIFIED:20240911T232640Z
UID:4680-1726304400-1726311600@webstertrails.org
SUMMARY:Hike Four Mile Creek Preserve
DESCRIPTION:In collaboration with the Webster Public Library\, Friends of Webster Trails is hosting a guided hike in Four Mile Creek Preserve. Learn about the habitat and history\, and enjoy views of Salt Creek on this moderate hike of roughly 2 miles. This hike is suitable for adults. \n\n\n\nRegistration required through the Library. https://websterlibrary.libcal.com/event/12067575
URL:https://webstertrails.org/event/hike-four-mile-creek-preserve/
LOCATION:Four Mile Creek Preserve\, 160 Phillips Rd \, Webster\, NY\, 14580\, United States
CATEGORIES:Activities,Hikes and Events
ATTACH;FMTTYPE=image/jpeg:https://webstertrails.org/wp-content/uploads/2024/03/FWTHike-1.jpg
END:VEVENT
BEGIN:VEVENT
DTSTART;TZID=America/New_York:20240621T173000
DTEND;TZID=America/New_York:20240621T193000
DTSTAMP:20260421T234011
CREATED:20240428T204225Z
LAST-MODIFIED:20240428T204226Z
UID:4677-1718991000-1718998200@webstertrails.org
SUMMARY:Summer Reading Kickoff Party in the Park
DESCRIPTION:Help us kick the summer season off with crafts\, games\, storytime\, treats and more! \n\n\n\nJoin the Webster Public Library for this free event located at Charles E. Sexton Memorial Park (formerly known as North Ponds Park).  \n\n\n\nNo registration is required\, and all ages are welcome.
URL:https://webstertrails.org/event/summer-reading-kickoff-party-in-the-park/
LOCATION:North Ponds Park\, 750 Holt Road\, Webster\, NY\, 14580\, United States
CATEGORIES:Activities,Hikes and Events
END:VEVENT
BEGIN:VEVENT
DTSTART;TZID=America/New_York:20240511T090000
DTEND;TZID=America/New_York:20240511T110000
DTSTAMP:20260421T234011
CREATED:20240428T202403Z
LAST-MODIFIED:20240501T200408Z
UID:4672-1715418000-1715425200@webstertrails.org
SUMMARY:Hike Gosnell Big Woods
DESCRIPTION:In collaboration with Webster Public Library\, the Friends of Webster Trails are hosting a hike at Gosnell Big Woods Park. This hike is open to all ages and will be about two miles in length. Participants will be emailed before the day of the hike with details. Be sure to register on the Library website – participation is limited!
URL:https://webstertrails.org/event/hike-gosnell-big-woods/
LOCATION:Gosnell Big Woods Preserve\, 680 Vosburg Rd\, Webster\, NY\, 14580\, United States
CATEGORIES:Activities,Hikes and Events
ATTACH;FMTTYPE=image/jpeg:https://webstertrails.org/wp-content/uploads/2024/03/FWTHike.jpg
END:VEVENT
BEGIN:VEVENT
DTSTART;TZID=America/New_York:20231104T190000
DTEND;TZID=America/New_York:20231104T203000
DTSTAMP:20260421T234011
CREATED:20231024T025201Z
LAST-MODIFIED:20231030T014419Z
UID:2708-1699124400-1699129800@webstertrails.org
SUMMARY:Hot Cocoa Hike
DESCRIPTION:Hike in the dark with a treat at the end!\nMeet in the Gosnell Big Woods Preserve parking lot at Drumm and Vosberg. \nThis is a fun\, free\, and self-guided hike. This year’s hike will be at Gosnell Big Wood Preserve.  (674 Vosburg Road\, Google Maps)   Please leave the parking lot between 7pm and 8pm\, arriving at your hot cocoa stop by 8:30pm.  \nThe hot cocoa hike is approximately 1.3 miles long (start to finish) and will include a stop for socialization and hot cocoa.  The trail will start at the parking lot and be marked by lights along the way. This is not a guided event. You are responsible finding your way to the hot cocoa and back by following the marked path. So that everyone can enjoy this event\, please leave your dog at home\, you can bring them back to enjoy the trail another time.  \nNote:  Please bring a flashlight and your own travel mug.  This is a carry-in carry out event.  \nSignUpGenius Link:\nhttps://www.signupgenius.com/go/8050D4EAFA82E5-45256892-hotcocoa#/
URL:https://webstertrails.org/event/hot-cocoa-hike-6/
LOCATION:Gosnell Big Woods Preserve – Parking Lot\, 674 Vosburg Road\, Webster\, NY\, 14580\, United States
CATEGORIES:Activities,Hikes and Events
END:VEVENT
BEGIN:VEVENT
DTSTART;TZID=America/New_York:20231104T100000
DTEND;TZID=America/New_York:20231104T120000
DTSTAMP:20260421T234011
CREATED:20231024T021010Z
LAST-MODIFIED:20231024T132007Z
UID:2696-1699092000-1699099200@webstertrails.org
SUMMARY:Family Scavenger Hunt
DESCRIPTION:Search\, Explore\, Discover!\nParticipants will find the clues around the park and record your answers on a special scavenger hunt answer key. Return your answers for a fun prize! \nRain or shine – dress for the weather. \nRegister at Webster Parks and Recreation pay at the event.
URL:https://webstertrails.org/event/family-scavenger-hunt-2/
LOCATION:Webster Parks and Rec Center\, 1350 Chiyoda Drive\, Webster\, NY\, 14580\, United States
CATEGORIES:Activities,Hikes and Events
END:VEVENT
END:VCALENDAR